BEGIN:VCALENDAR
VERSION:2.0
PRODID:-//Heubécourt-Haricourt - ECPv5.3.2.1//NONSGML v1.0//EN
CALSCALE:GREGORIAN
METHOD:PUBLISH
X-WR-CALNAME:Heubécourt-Haricourt
X-ORIGINAL-URL:https://www.heubecourt-haricourt.fr
X-WR-CALDESC:évènements pour Heubécourt-Haricourt
BEGIN:VTIMEZONE
TZID:Europe/Paris
BEGIN:DAYLIGHT
TZOFFSETFROM:+0100
TZOFFSETTO:+0200
TZNAME:CEST
DTSTART:20250330T010000
END:DAYLIGHT
BEGIN:STANDARD
TZOFFSETFROM:+0200
TZOFFSETTO:+0100
TZNAME:CET
DTSTART:20251026T010000
END:STANDARD
END:VTIMEZONE
BEGIN:VEVENT
DTSTART;TZID=Europe/Paris:20250405T200000
DTEND;TZID=Europe/Paris:20250405T233000
DTSTAMP:20260421T182846
CREATED:20250328T134701Z
LAST-MODIFIED:20250331T095136Z
UID:14436-1743883200-1743895800@www.heubecourt-haricourt.fr
SUMMARY:Repas de printemps : cassoulet
DESCRIPTION:Renseignement et inscription auprès d’un membre du comité des fêtes\n Cassoulet ;  le samedi 5 avril  à partir de 20 h\nsamedi 5 avril
URL:https://www.heubecourt-haricourt.fr/evenement/repas-de-printemps/
LOCATION:salle polyvalente\, 4 rue Taurin cahagne\, heubecourt-Haricourt\, 27630\, France
END:VEVENT
END:VCALENDAR