BEGIN:VCALENDAR
VERSION:2.0
PRODID:-//Heubécourt-Haricourt - ECPv5.3.2.1//NONSGML v1.0//EN
CALSCALE:GREGORIAN
METHOD:PUBLISH
X-WR-CALNAME:Heubécourt-Haricourt
X-ORIGINAL-URL:https://www.heubecourt-haricourt.fr
X-WR-CALDESC:évènements pour Heubécourt-Haricourt
BEGIN:VTIMEZONE
TZID:Europe/Paris
BEGIN:DAYLIGHT
TZOFFSETFROM:+0100
TZOFFSETTO:+0200
TZNAME:CEST
DTSTART:20260329T010000
END:DAYLIGHT
BEGIN:STANDARD
TZOFFSETFROM:+0200
TZOFFSETTO:+0100
TZNAME:CET
DTSTART:20261025T010000
END:STANDARD
END:VTIMEZONE
BEGIN:VEVENT
DTSTART;TZID=Europe/Paris:20260426T233000
DTEND;TZID=Europe/Paris:20260426T233000
DTSTAMP:20260421T101412
CREATED:20260411T120249Z
LAST-MODIFIED:20260411T120433Z
UID:15966-1777246200-1777246200@www.heubecourt-haricourt.fr
SUMMARY:Fin de vacances de printemps
DESCRIPTION:Reprise  lundi 27 avril dés 8 h 30
URL:https://www.heubecourt-haricourt.fr/evenement/fin-de-vacances-de-printemps/
END:VEVENT
END:VCALENDAR