BEGIN:VCALENDAR
VERSION:2.0
PRODID:-//Heubécourt-Haricourt - ECPv5.3.2.1//NONSGML v1.0//EN
CALSCALE:GREGORIAN
METHOD:PUBLISH
X-WR-CALNAME:Heubécourt-Haricourt
X-ORIGINAL-URL:https://www.heubecourt-haricourt.fr
X-WR-CALDESC:évènements pour Heubécourt-Haricourt
BEGIN:VTIMEZONE
TZID:Europe/Paris
BEGIN:DAYLIGHT
TZOFFSETFROM:+0100
TZOFFSETTO:+0200
TZNAME:CEST
DTSTART:20240331T010000
END:DAYLIGHT
BEGIN:STANDARD
TZOFFSETFROM:+0200
TZOFFSETTO:+0100
TZNAME:CET
DTSTART:20241027T010000
END:STANDARD
END:VTIMEZONE
BEGIN:VEVENT
DTSTART;TZID=Europe/Paris:20241216T203000
DTEND;TZID=Europe/Paris:20241216T230000
DTSTAMP:20260422T094514
CREATED:20241211T091754Z
LAST-MODIFIED:20241211T091754Z
UID:14016-1734381000-1734390000@www.heubecourt-haricourt.fr
SUMMARY:Conseil municipal
DESCRIPTION:CONVOCATION CM 16 DEC 2024-1
URL:https://www.heubecourt-haricourt.fr/evenement/conseil-municipal-8/
LOCATION:mairie\, 22 place de l'eglise\, Heubecourt-haricourt\, 27630\, France
END:VEVENT
END:VCALENDAR