BEGIN:VCALENDAR
VERSION:2.0
PRODID:-//Heubécourt-Haricourt - ECPv5.3.2.1//NONSGML v1.0//EN
CALSCALE:GREGORIAN
METHOD:PUBLISH
X-WR-CALNAME:Heubécourt-Haricourt
X-ORIGINAL-URL:https://www.heubecourt-haricourt.fr
X-WR-CALDESC:évènements pour Heubécourt-Haricourt
BEGIN:VTIMEZONE
TZID:Europe/Paris
BEGIN:DAYLIGHT
TZOFFSETFROM:+0100
TZOFFSETTO:+0200
TZNAME:CEST
DTSTART:20250330T010000
END:DAYLIGHT
BEGIN:STANDARD
TZOFFSETFROM:+0200
TZOFFSETTO:+0100
TZNAME:CET
DTSTART:20251026T010000
END:STANDARD
END:VTIMEZONE
BEGIN:VEVENT
DTSTART;TZID=Europe/Paris:20251205T203000
DTEND;TZID=Europe/Paris:20251205T233000
DTSTAMP:20260420T123259
CREATED:20251129T094148Z
LAST-MODIFIED:20251129T094851Z
UID:15263-1764966600-1764977400@www.heubecourt-haricourt.fr
SUMMARY:Conseil municipal
DESCRIPTION:ordre du jour  \nCM 5 DEC 2025
URL:https://www.heubecourt-haricourt.fr/evenement/conseil-municipal-13/
LOCATION:mairie\, 22 place de l'eglise\, Heubecourt-haricourt\, 27630\, France
END:VEVENT
END:VCALENDAR