BEGIN:VCALENDAR
VERSION:2.0
PRODID:-//Heubécourt-Haricourt - ECPv5.3.2.1//NONSGML v1.0//EN
CALSCALE:GREGORIAN
METHOD:PUBLISH
X-WR-CALNAME:Heubécourt-Haricourt
X-ORIGINAL-URL:https://www.heubecourt-haricourt.fr
X-WR-CALDESC:évènements pour Heubécourt-Haricourt
BEGIN:VTIMEZONE
TZID:Europe/Paris
BEGIN:DAYLIGHT
TZOFFSETFROM:+0100
TZOFFSETTO:+0200
TZNAME:CEST
DTSTART:20250330T010000
END:DAYLIGHT
BEGIN:STANDARD
TZOFFSETFROM:+0200
TZOFFSETTO:+0100
TZNAME:CET
DTSTART:20251026T010000
END:STANDARD
END:VTIMEZONE
BEGIN:VEVENT
DTSTART;TZID=Europe/Paris:20250404T140000
DTEND;TZID=Europe/Paris:20250404T160000
DTSTAMP:20260421T225500
CREATED:20250316T084905Z
LAST-MODIFIED:20250316T084905Z
UID:14415-1743775200-1743782400@www.heubecourt-haricourt.fr
SUMMARY:Carnaval des enfants
DESCRIPTION:vendredi aprés-midi
URL:https://www.heubecourt-haricourt.fr/evenement/carnaval-des-enfants/
LOCATION:place de l’église Heubécourt\, 22 Place de l'église\, Heubécourt-Haricourt\, 27630\, France
END:VEVENT
END:VCALENDAR