BEGIN:VCALENDAR
VERSION:2.0
PRODID:-//Heubécourt-Haricourt - ECPv5.3.2.1//NONSGML v1.0//EN
CALSCALE:GREGORIAN
METHOD:PUBLISH
X-WR-CALNAME:Heubécourt-Haricourt
X-ORIGINAL-URL:https://www.heubecourt-haricourt.fr
X-WR-CALDESC:évènements pour Heubécourt-Haricourt
BEGIN:VTIMEZONE
TZID:Europe/Paris
BEGIN:DAYLIGHT
TZOFFSETFROM:+0100
TZOFFSETTO:+0200
TZNAME:CEST
DTSTART:20250330T010000
END:DAYLIGHT
BEGIN:STANDARD
TZOFFSETFROM:+0200
TZOFFSETTO:+0100
TZNAME:CET
DTSTART:20251026T010000
END:STANDARD
END:VTIMEZONE
BEGIN:VEVENT
DTSTART;TZID=Europe/Paris:20250309T100000
DTEND;TZID=Europe/Paris:20250309T170000
DTSTAMP:20260422T020606
CREATED:20250210T153054Z
LAST-MODIFIED:20250213T111800Z
UID:14309-1741514400-1741539600@www.heubecourt-haricourt.fr
SUMMARY:Braderie ; puériculture jouets & puces des couturières
DESCRIPTION:2025 Braderie printemps \ndimanche 9 mars  \nSalle polyvalente de 10 h à 17 h \n4 €/ mL par exposant\navec un maximum de 3 m par exposant \nRenseignements et réservation : 06 15 15 52 02
URL:https://www.heubecourt-haricourt.fr/evenement/braderie-puericulture-jouets-puces-des-couturieres/
LOCATION:salle polyvalente\, 4 rue Taurin cahagne\, heubecourt-Haricourt\, 27630\, France
ORGANIZER;CN="Comit%C3%A9%20des%20f%C3%AAtes":MAILTO:mairie.heubecourtharicourt27@gmail.com
END:VEVENT
END:VCALENDAR