BEGIN:VCALENDAR
VERSION:2.0
PRODID:-//Heubécourt-Haricourt - ECPv5.3.2.1//NONSGML v1.0//EN
CALSCALE:GREGORIAN
METHOD:PUBLISH
X-WR-CALNAME:Heubécourt-Haricourt
X-ORIGINAL-URL:https://www.heubecourt-haricourt.fr
X-WR-CALDESC:évènements pour Heubécourt-Haricourt
BEGIN:VTIMEZONE
TZID:Europe/Paris
BEGIN:DAYLIGHT
TZOFFSETFROM:+0100
TZOFFSETTO:+0200
TZNAME:CEST
DTSTART:20250330T010000
END:DAYLIGHT
BEGIN:STANDARD
TZOFFSETFROM:+0200
TZOFFSETTO:+0100
TZNAME:CET
DTSTART:20251026T010000
END:STANDARD
END:VTIMEZONE
BEGIN:VEVENT
DTSTART;TZID=Europe/Paris:20250515T140000
DTEND;TZID=Europe/Paris:20250515T160000
DTSTAMP:20260421T134445
CREATED:20250509T095728Z
LAST-MODIFIED:20250509T103243Z
UID:14604-1747317600-1747324800@www.heubecourt-haricourt.fr
SUMMARY:ateliers " Seniors en mouvement"
DESCRIPTION:voir le détail du programme \n2025 Ateliers HH programme
URL:https://www.heubecourt-haricourt.fr/evenement/ateliers-seniors-en-mouvement/
END:VEVENT
END:VCALENDAR