BEGIN:VCALENDAR
VERSION:2.0
PRODID:-//Heubécourt-Haricourt - ECPv5.3.2.1//NONSGML v1.0//EN
CALSCALE:GREGORIAN
METHOD:PUBLISH
X-WR-CALNAME:Heubécourt-Haricourt
X-ORIGINAL-URL:https://www.heubecourt-haricourt.fr
X-WR-CALDESC:évènements pour Heubécourt-Haricourt
BEGIN:VTIMEZONE
TZID:Europe/Paris
BEGIN:DAYLIGHT
TZOFFSETFROM:+0100
TZOFFSETTO:+0200
TZNAME:CEST
DTSTART:20250330T010000
END:DAYLIGHT
BEGIN:STANDARD
TZOFFSETFROM:+0200
TZOFFSETTO:+0100
TZNAME:CET
DTSTART:20251026T010000
END:STANDARD
END:VTIMEZONE
BEGIN:VEVENT
DTSTART;TZID=Europe/Paris:20250522T140000
DTEND;TZID=Europe/Paris:20250522T140000
DTSTAMP:20260421T120457
CREATED:20250515T214325Z
LAST-MODIFIED:20250515T214658Z
UID:14632-1747922400-1747922400@www.heubecourt-haricourt.fr
SUMMARY:Atelier senior ; nutrition
DESCRIPTION:
URL:https://www.heubecourt-haricourt.fr/evenement/atelier-nutrition/
LOCATION:Salle associative\, 6 rue du parc\, Heubecourt-Haricourt\, 27630\, France
END:VEVENT
END:VCALENDAR